BEGIN:VCALENDAR
PRODID:medicalboard.georgia.gov
VERSION:2.0
CALSCALE:GREGORIAN
BEGIN:VEVENT
UID:3a306430b28bf217df5a08fc52db41ae
DTSTAMP:20260423T101010Z
SUMMARY:GCMB Meeting Week (Full Board and Committee Meetings)
DESCRIPTION:November 2nd:Pain Clinic CommitteeGenetic Counselor CommitteeIn
 vestigative Committee\n\nNovember 3rd:Wellness CommitteeLaser CommitteePhy
 sician Assistant CommitteeAcupuncture CommitteeAPRN Committee\n\nNovember 
 4th:Perfusion CommitteeRCP CommitteeO&P CommitteePhysician Licensure Commi
 ttee\n\nNovember 5th:Full BoardRules Committee
URL:https://medicalboard.georgia.gov/events/2026-11-05/gcmb-meeting-week-fu
 ll-board-and-committee-meetings
DTSTART;VALUE=DATE:20261105
LOCATION:2 Martin Luther King Jr. Drive SE East Tower\, 11th Floor  Atlanta
 \, GA 30334 US
X-LIC-LOCATION:America/New_York
X-WR-TIMEZONE:America/New_York
END:VEVENT
BEGIN:VTIMEZONE
TZID:America/New_York
END:VTIMEZONE
END:VCALENDAR
