BEGIN:VCALENDAR
PRODID:medicalboard.georgia.gov
VERSION:2.0
CALSCALE:GREGORIAN
BEGIN:VEVENT
UID:2dc1f46e395ea783236e8c739985cbdb
DTSTAMP:20260423T083710Z
SUMMARY:GCMB Meeting Week (Full Board and Committee Meetings) 
DESCRIPTION:September 28th:Pain Clinic CommitteeGenetic Counselor Committee
 Investigative Committee\n\nSeptember 29th:Wellness CommitteeLaser Committe
 ePhysician Assistant CommitteeAcupuncture CommitteeAPRN Committee\n\nSepte
 mber 30th:Perfusion CommitteeRCP CommitteeO&P CommitteePhysician Licensure
  Committee\n\nOctober 1st:Full BoardRules Committee
URL:https://medicalboard.georgia.gov/events/2026-10-01/gcmb-meeting-week-fu
 ll-board-and-committee-meetings
DTSTART;VALUE=DATE:20261001
LOCATION:2 Martin Luther King Jr. Drive SE East Tower\, 11th Floor  Atlanta
 \, GA 30334 US
X-LIC-LOCATION:America/New_York
X-WR-TIMEZONE:America/New_York
END:VEVENT
BEGIN:VTIMEZONE
TZID:America/New_York
END:VTIMEZONE
END:VCALENDAR
