BEGIN:VCALENDAR
PRODID:medicalboard.georgia.gov
VERSION:2.0
CALSCALE:GREGORIAN
BEGIN:VEVENT
UID:9185548e1f383d6ec2b5a5c480075626
DTSTAMP:20260423T083746Z
SUMMARY:GCMB Meeting Week (Full Board and Committee Meetings) 
DESCRIPTION:August 31st:Pain Clinic CommitteeGenetic Counselor CommitteeInv
 estigative Committee\n\nSeptember 1st:Wellness CommitteeLaser CommitteePhy
 sician Assistant CommitteeAcupuncture CommitteeAPRN Committee\n\nSeptember
  2nd:Perfusion CommitteeRCP CommitteeO&P CommitteePhysician Licensure Comm
 ittee\n\nSeptember 3rd:Full BoardRules Committee
URL:https://medicalboard.georgia.gov/events/2026-09-03/gcmb-meeting-week-fu
 ll-board-and-committee-meetings
DTSTART;VALUE=DATE:20260903
LOCATION:2 Martin Luther King Jr. Drive SE East Tower\, 11th Floor  Atlanta
 \, GA 30334 US
X-LIC-LOCATION:America/New_York
X-WR-TIMEZONE:America/New_York
END:VEVENT
BEGIN:VTIMEZONE
TZID:America/New_York
END:VTIMEZONE
END:VCALENDAR
