BEGIN:VCALENDAR
PRODID:medicalboard.georgia.gov
VERSION:2.0
CALSCALE:GREGORIAN
BEGIN:VEVENT
UID:4e6b603aae51248d60de58ab7aee5d5d
DTSTAMP:20260423T100806Z
SUMMARY:GCMB Meeting Week (Full Board and Committee Meetings)
DESCRIPTION:August 3rd:Pain Clinic CommitteeGenetic Counselor CommitteeInve
 stigative Committee\n\nAugust 4th:Wellness CommitteeLaser CommitteePhysici
 an Assistant CommitteeAcupuncture CommitteeAPRN Committee\n\nAugust 5th:Pe
 rfusion CommitteeRCP CommitteeO&P CommitteePhysician Licensure Committee\n
 \nAugust 6th:Full BoardRules Committee
URL:https://medicalboard.georgia.gov/events/2026-08-06/gcmb-meeting-week-fu
 ll-board-and-committee-meetings
DTSTART;VALUE=DATE:20260806
LOCATION:2 Martin Luther King Jr. Drive SE East Tower\, 11th Floor  Atlanta
 \, GA 30334 US
X-LIC-LOCATION:America/New_York
X-WR-TIMEZONE:America/New_York
END:VEVENT
BEGIN:VTIMEZONE
TZID:America/New_York
END:VTIMEZONE
END:VCALENDAR
