BEGIN:VCALENDAR
PRODID:medicalboard.georgia.gov
VERSION:2.0
CALSCALE:GREGORIAN
BEGIN:VEVENT
UID:61fd6b2e6f7a7326d446f010b43945f1
DTSTAMP:20260423T083631Z
SUMMARY:GCMB Meeting Week (Full Board and Committee Meetings)
DESCRIPTION:July 6th:Pain Clinic CommitteeGenetic Counselor CommitteeInvest
 igative Committee\n\nJuly 7th:Wellness CommitteeLaser CommitteePhysician A
 ssistant CommitteeAcupuncture CommitteeAPRN Committee\n\nJuly 8th:Perfusio
 n CommitteeRCP CommitteeO&P CommitteePhysician Licensure Committee\n\nJuly
  9th:Full BoardRules Committee
URL:https://medicalboard.georgia.gov/events/2026-07-09/gcmb-meeting-week-fu
 ll-board-and-committee-meetings
DTSTART;VALUE=DATE:20260709
LOCATION:2 Martin Luther King Jr. Drive SE East Tower\, 11th Floor  Atlanta
 \, GA 30334 US
X-LIC-LOCATION:America/New_York
X-WR-TIMEZONE:America/New_York
END:VEVENT
BEGIN:VTIMEZONE
TZID:America/New_York
END:VTIMEZONE
END:VCALENDAR
