BEGIN:VCALENDAR
PRODID:medicalboard.georgia.gov
VERSION:2.0
CALSCALE:GREGORIAN
BEGIN:VEVENT
UID:39aa342717bd09f00bf38d3dcdffad56
DTSTAMP:20260423T083745Z
SUMMARY:GCMB Meeting Week (Full Board and Committee Meetings)
DESCRIPTION:June 1st:Pain Clinic CommitteeGenetic Counselor CommitteeInvest
 igative Committee\n\nJune 2nd:Wellness CommitteeLaser CommitteePhysician A
 ssistant CommitteeAcupuncture CommitteeAPRN Committee\n\nJune 3rd:Perfusio
 n CommitteeRCP CommitteeO&P CommitteePhysician Licensure Committee\n\nJune
  4th:Full BoardRules Committee
URL:https://medicalboard.georgia.gov/events/2026-06-04/gcmb-meeting-week-fu
 ll-board-and-committee-meetings
DTSTART;VALUE=DATE:20260604
LOCATION:2 Martin Luther King Jr. Drive SE East Tower\, 11th Floor  Atlanta
 \, GA 30334 US
X-LIC-LOCATION:America/New_York
X-WR-TIMEZONE:America/New_York
END:VEVENT
BEGIN:VTIMEZONE
TZID:America/New_York
END:VTIMEZONE
END:VCALENDAR
