BEGIN:VCALENDAR
PRODID:medicalboard.georgia.gov
VERSION:2.0
CALSCALE:GREGORIAN
BEGIN:VEVENT
UID:9e04f59a8dfcf0bcfbfc20adf55ab08c
DTSTAMP:20260423T083710Z
SUMMARY:GCMB Meeting Week (Full Board and Committee Meetings)
DESCRIPTION:May 4th:Pain Clinic CommitteeGenetic Counselor CommitteeInvesti
 gative Committee\n\nMay 5th:Wellness CommitteeLaser CommitteePhysician Ass
 istant CommitteeAcupuncture CommitteeAPRN Committee\n\nMay 6th:Perfusion C
 ommitteeRCP CommitteeO&P CommitteePhysician Licensure Committee\n\nMay 7th
 :Full BoardRules Committee
URL:https://medicalboard.georgia.gov/events/2026-05-07/gcmb-meeting-week-fu
 ll-board-and-committee-meetings
DTSTART;VALUE=DATE:20260507
LOCATION:2 Martin Luther King Jr. Drive SE East Tower\, 11th Floor  Atlanta
 \, GA 30334 US
X-LIC-LOCATION:America/New_York
X-WR-TIMEZONE:America/New_York
END:VEVENT
BEGIN:VTIMEZONE
TZID:America/New_York
END:VTIMEZONE
END:VCALENDAR
